BEGIN:VCALENDAR
VERSION:2.0
PRODID:-//Seaford Secondary College - ECPv6.15.12.2//NONSGML v1.0//EN
CALSCALE:GREGORIAN
METHOD:PUBLISH
X-ORIGINAL-URL:https://www.seafordhs.sa.edu.au
X-WR-CALDESC:Events for Seaford Secondary College
REFRESH-INTERVAL;VALUE=DURATION:PT1H
X-Robots-Tag:noindex
X-PUBLISHED-TTL:PT1H
BEGIN:VTIMEZONE
TZID:Australia/Adelaide
BEGIN:STANDARD
TZOFFSETFROM:+1030
TZOFFSETTO:+0930
TZNAME:ACST
DTSTART:20210403T163000
END:STANDARD
BEGIN:DAYLIGHT
TZOFFSETFROM:+0930
TZOFFSETTO:+1030
TZNAME:ACDT
DTSTART:20211002T163000
END:DAYLIGHT
BEGIN:STANDARD
TZOFFSETFROM:+1030
TZOFFSETTO:+0930
TZNAME:ACST
DTSTART:20220402T163000
END:STANDARD
BEGIN:DAYLIGHT
TZOFFSETFROM:+0930
TZOFFSETTO:+1030
TZNAME:ACDT
DTSTART:20221001T163000
END:DAYLIGHT
BEGIN:STANDARD
TZOFFSETFROM:+1030
TZOFFSETTO:+0930
TZNAME:ACST
DTSTART:20230401T163000
END:STANDARD
BEGIN:DAYLIGHT
TZOFFSETFROM:+0930
TZOFFSETTO:+1030
TZNAME:ACDT
DTSTART:20230930T163000
END:DAYLIGHT
BEGIN:STANDARD
TZOFFSETFROM:+1030
TZOFFSETTO:+0930
TZNAME:ACST
DTSTART:20240406T163000
END:STANDARD
BEGIN:DAYLIGHT
TZOFFSETFROM:+0930
TZOFFSETTO:+1030
TZNAME:ACDT
DTSTART:20241005T163000
END:DAYLIGHT
BEGIN:STANDARD
TZOFFSETFROM:+1030
TZOFFSETTO:+0930
TZNAME:ACST
DTSTART:20250405T163000
END:STANDARD
BEGIN:DAYLIGHT
TZOFFSETFROM:+0930
TZOFFSETTO:+1030
TZNAME:ACDT
DTSTART:20251004T163000
END:DAYLIGHT
BEGIN:STANDARD
TZOFFSETFROM:+1030
TZOFFSETTO:+0930
TZNAME:ACST
DTSTART:20260404T163000
END:STANDARD
BEGIN:DAYLIGHT
TZOFFSETFROM:+0930
TZOFFSETTO:+1030
TZNAME:ACDT
DTSTART:20261003T163000
END:DAYLIGHT
END:VTIMEZONE
BEGIN:VEVENT
DTSTART;TZID=Australia/Adelaide:20251202T180000
DTEND;TZID=Australia/Adelaide:20251202T193000
DTSTAMP:20260419T230355
CREATED:20250220T022010Z
LAST-MODIFIED:20250220T022010Z
UID:10000463-1764698400-1764703800@www.seafordhs.sa.edu.au
SUMMARY:Governing Council
DESCRIPTION:
URL:https://www.seafordhs.sa.edu.au/event/governing-council-18/
CATEGORIES:Governing Council
END:VEVENT
BEGIN:VEVENT
DTSTART;TZID=Australia/Adelaide:20251104T180000
DTEND;TZID=Australia/Adelaide:20251104T193000
DTSTAMP:20260419T230355
CREATED:20250220T021241Z
LAST-MODIFIED:20250220T021241Z
UID:10000391-1762279200-1762284600@www.seafordhs.sa.edu.au
SUMMARY:Governing Council
DESCRIPTION:
URL:https://www.seafordhs.sa.edu.au/event/governing-council-17/
CATEGORIES:Governing Council
END:VEVENT
BEGIN:VEVENT
DTSTART;TZID=Australia/Adelaide:20250909T180000
DTEND;TZID=Australia/Adelaide:20250909T193000
DTSTAMP:20260419T230355
CREATED:20250220T020132Z
LAST-MODIFIED:20250220T020132Z
UID:10000379-1757440800-1757446200@www.seafordhs.sa.edu.au
SUMMARY:Governing Council
DESCRIPTION:
URL:https://www.seafordhs.sa.edu.au/event/governing-council-16/
CATEGORIES:Governing Council
END:VEVENT
BEGIN:VEVENT
DTSTART;TZID=Australia/Adelaide:20250812T180000
DTEND;TZID=Australia/Adelaide:20250812T193000
DTSTAMP:20260419T230355
CREATED:20250220T015742Z
LAST-MODIFIED:20250220T015742Z
UID:10000454-1755021600-1755027000@www.seafordhs.sa.edu.au
SUMMARY:Governing Council
DESCRIPTION:
URL:https://www.seafordhs.sa.edu.au/event/governing-council-15/
CATEGORIES:Governing Council
END:VEVENT
BEGIN:VEVENT
DTSTART;TZID=Australia/Adelaide:20250617T180000
DTEND;TZID=Australia/Adelaide:20250617T190000
DTSTAMP:20260419T230355
CREATED:20250220T003319Z
LAST-MODIFIED:20250220T003319Z
UID:10000445-1750183200-1750186800@www.seafordhs.sa.edu.au
SUMMARY:Governing Council
DESCRIPTION:
URL:https://www.seafordhs.sa.edu.au/event/governing-council-14/
CATEGORIES:Governing Council
END:VEVENT
BEGIN:VEVENT
DTSTART;TZID=Australia/Adelaide:20250520T180000
DTEND;TZID=Australia/Adelaide:20250520T190000
DTSTAMP:20260419T230355
CREATED:20250220T003122Z
LAST-MODIFIED:20250220T003122Z
UID:10000446-1747764000-1747767600@www.seafordhs.sa.edu.au
SUMMARY:Governing Council
DESCRIPTION:
URL:https://www.seafordhs.sa.edu.au/event/governing-council-13/
CATEGORIES:Governing Council
END:VEVENT
BEGIN:VEVENT
DTSTART;TZID=Australia/Adelaide:20231204T183000
DTEND;TZID=Australia/Adelaide:20231204T193000
DTSTAMP:20260419T230355
CREATED:20230426T050526Z
LAST-MODIFIED:20230426T050526Z
UID:10000363-1701714600-1701718200@www.seafordhs.sa.edu.au
SUMMARY:Governing Council
DESCRIPTION:
URL:https://www.seafordhs.sa.edu.au/event/governing-council-12/
CATEGORIES:Governing Council
END:VEVENT
BEGIN:VEVENT
DTSTART;TZID=Australia/Adelaide:20231106T183000
DTEND;TZID=Australia/Adelaide:20231106T193000
DTSTAMP:20260419T230355
CREATED:20230426T044618Z
LAST-MODIFIED:20230426T044618Z
UID:10000352-1699295400-1699299000@www.seafordhs.sa.edu.au
SUMMARY:Governing council
DESCRIPTION:
URL:https://www.seafordhs.sa.edu.au/event/governing-council-11/
CATEGORIES:Governing Council
END:VEVENT
BEGIN:VEVENT
DTSTART;TZID=Australia/Adelaide:20230911T183000
DTEND;TZID=Australia/Adelaide:20230911T193000
DTSTAMP:20260419T230355
CREATED:20230426T043515Z
LAST-MODIFIED:20230426T043515Z
UID:10000345-1694457000-1694460600@www.seafordhs.sa.edu.au
SUMMARY:Governing Council
DESCRIPTION:
URL:https://www.seafordhs.sa.edu.au/event/governing-council-10/
CATEGORIES:Governing Council
END:VEVENT
BEGIN:VEVENT
DTSTART;TZID=Australia/Adelaide:20230814T063000
DTEND;TZID=Australia/Adelaide:20230814T193000
DTSTAMP:20260419T230355
CREATED:20230426T042836Z
LAST-MODIFIED:20230426T042836Z
UID:10000341-1691994600-1692041400@www.seafordhs.sa.edu.au
SUMMARY:Governing Council
DESCRIPTION:
URL:https://www.seafordhs.sa.edu.au/event/governing-council-9/
CATEGORIES:Governing Council
END:VEVENT
BEGIN:VEVENT
DTSTART;TZID=Australia/Adelaide:20230619T063000
DTEND;TZID=Australia/Adelaide:20230619T193000
DTSTAMP:20260419T230355
CREATED:20230426T025829Z
LAST-MODIFIED:20230426T025829Z
UID:10000331-1687156200-1687203000@www.seafordhs.sa.edu.au
SUMMARY:Governing Council
DESCRIPTION:
URL:https://www.seafordhs.sa.edu.au/event/governing-council-8/
CATEGORIES:Governing Council
END:VEVENT
BEGIN:VEVENT
DTSTART;TZID=Australia/Adelaide:20230522T060000
DTEND;TZID=Australia/Adelaide:20230522T193000
DTSTAMP:20260419T230355
CREATED:20230426T024403Z
LAST-MODIFIED:20230426T024403Z
UID:10000317-1684735200-1684783800@www.seafordhs.sa.edu.au
SUMMARY:Governing Council
DESCRIPTION:
URL:https://www.seafordhs.sa.edu.au/event/governing-council/
CATEGORIES:Governing Council
END:VEVENT
BEGIN:VEVENT
DTSTART;TZID=Australia/Adelaide:20221128T183000
DTEND;TZID=Australia/Adelaide:20221128T200000
DTSTAMP:20260419T230355
CREATED:20220317T003747Z
LAST-MODIFIED:20220317T003747Z
UID:10000282-1669660200-1669665600@www.seafordhs.sa.edu.au
SUMMARY:Governing Council
DESCRIPTION:
URL:https://www.seafordhs.sa.edu.au/event/governing-council-7/
CATEGORIES:Governing Council
END:VEVENT
BEGIN:VEVENT
DTSTART;TZID=Australia/Adelaide:20221031T183000
DTEND;TZID=Australia/Adelaide:20221031T200000
DTSTAMP:20260419T230355
CREATED:20220317T003700Z
LAST-MODIFIED:20220317T003700Z
UID:10000281-1667241000-1667246400@www.seafordhs.sa.edu.au
SUMMARY:Governing Council
DESCRIPTION:
URL:https://www.seafordhs.sa.edu.au/event/governing-council-6/
CATEGORIES:Governing Council
END:VEVENT
BEGIN:VEVENT
DTSTART;TZID=Australia/Adelaide:20220919T183000
DTEND;TZID=Australia/Adelaide:20220919T200000
DTSTAMP:20260419T230355
CREATED:20220118T224341Z
LAST-MODIFIED:20220118T224341Z
UID:10000269-1663612200-1663617600@www.seafordhs.sa.edu.au
SUMMARY:Governing Council
DESCRIPTION:
URL:https://www.seafordhs.sa.edu.au/event/governing-council-4/
CATEGORIES:Governing Council
END:VEVENT
BEGIN:VEVENT
DTSTART;TZID=Australia/Adelaide:20220815T183000
DTEND;TZID=Australia/Adelaide:20220815T200000
DTSTAMP:20260419T230355
CREATED:20220317T000530Z
LAST-MODIFIED:20220317T000530Z
UID:10000280-1660588200-1660593600@www.seafordhs.sa.edu.au
SUMMARY:Governing Council
DESCRIPTION:
URL:https://www.seafordhs.sa.edu.au/event/governing-council-5/
CATEGORIES:Governing Council
END:VEVENT
BEGIN:VEVENT
DTSTART;TZID=Australia/Adelaide:20220627T183000
DTEND;TZID=Australia/Adelaide:20220627T200000
DTSTAMP:20260419T230355
CREATED:20220116T231930Z
LAST-MODIFIED:20220116T231930Z
UID:10000263-1656354600-1656360000@www.seafordhs.sa.edu.au
SUMMARY:Governing Council
DESCRIPTION:
URL:https://www.seafordhs.sa.edu.au/event/governing-council-3/
CATEGORIES:Governing Council
END:VEVENT
BEGIN:VEVENT
DTSTART;TZID=Australia/Adelaide:20220523T183000
DTEND;TZID=Australia/Adelaide:20220523T200000
DTSTAMP:20260419T230355
CREATED:20220114T051347Z
LAST-MODIFIED:20220114T051524Z
UID:10000255-1653330600-1653336000@www.seafordhs.sa.edu.au
SUMMARY:Governing Council
DESCRIPTION:
URL:https://www.seafordhs.sa.edu.au/event/governing-council-2/
CATEGORIES:Governing Council
END:VEVENT
BEGIN:VEVENT
DTSTART;TZID=Australia/Adelaide:20220307T183000
DTEND;TZID=Australia/Adelaide:20220307T200000
DTSTAMP:20260419T230355
CREATED:20220114T040601Z
LAST-MODIFIED:20220221T082115Z
UID:10000247-1646677800-1646683200@www.seafordhs.sa.edu.au
SUMMARY:Annual General Meeting & Governing Council
DESCRIPTION:
URL:https://www.seafordhs.sa.edu.au/event/annual-general-meeting-governing-council/
CATEGORIES:Governing Council
END:VEVENT
END:VCALENDAR