BEGIN:VCALENDAR
VERSION:2.0
PRODID:-//Seaford Secondary College - ECPv6.15.12.2//NONSGML v1.0//EN
CALSCALE:GREGORIAN
METHOD:PUBLISH
X-ORIGINAL-URL:https://www.seafordhs.sa.edu.au
X-WR-CALDESC:Events for Seaford Secondary College
REFRESH-INTERVAL;VALUE=DURATION:PT1H
X-Robots-Tag:noindex
X-PUBLISHED-TTL:PT1H
BEGIN:VTIMEZONE
TZID:Australia/Adelaide
BEGIN:STANDARD
TZOFFSETFROM:+1030
TZOFFSETTO:+0930
TZNAME:ACST
DTSTART:20240406T163000
END:STANDARD
BEGIN:DAYLIGHT
TZOFFSETFROM:+0930
TZOFFSETTO:+1030
TZNAME:ACDT
DTSTART:20241005T163000
END:DAYLIGHT
BEGIN:STANDARD
TZOFFSETFROM:+1030
TZOFFSETTO:+0930
TZNAME:ACST
DTSTART:20250405T163000
END:STANDARD
BEGIN:DAYLIGHT
TZOFFSETFROM:+0930
TZOFFSETTO:+1030
TZNAME:ACDT
DTSTART:20251004T163000
END:DAYLIGHT
BEGIN:STANDARD
TZOFFSETFROM:+1030
TZOFFSETTO:+0930
TZNAME:ACST
DTSTART:20260404T163000
END:STANDARD
BEGIN:DAYLIGHT
TZOFFSETFROM:+0930
TZOFFSETTO:+1030
TZNAME:ACDT
DTSTART:20261003T163000
END:DAYLIGHT
END:VTIMEZONE
BEGIN:VEVENT
DTSTART;VALUE=DATE:20250609
DTEND;VALUE=DATE:20250610
DTSTAMP:20260422T115925
CREATED:20250220T003206Z
LAST-MODIFIED:20250220T003206Z
UID:10000443-1749427200-1749513599@www.seafordhs.sa.edu.au
SUMMARY:King's Birthday
DESCRIPTION:
URL:https://www.seafordhs.sa.edu.au/event/kings-birthday-2/
CATEGORIES:School Closures,Public Holiday
END:VEVENT
BEGIN:VEVENT
DTSTART;VALUE=DATE:20250610
DTEND;VALUE=DATE:20250611
DTSTAMP:20260422T115925
CREATED:20250220T003248Z
LAST-MODIFIED:20250220T003248Z
UID:10000444-1749513600-1749599999@www.seafordhs.sa.edu.au
SUMMARY:Student Free Day
DESCRIPTION:Cultural Inclusion Practice
URL:https://www.seafordhs.sa.edu.au/event/student-free-day-16/
CATEGORIES:School Closures,Student Free Days
END:VEVENT
END:VCALENDAR