BEGIN:VCALENDAR
VERSION:2.0
PRODID:-//Seaford Secondary College - ECPv6.15.12.2//NONSGML v1.0//EN
CALSCALE:GREGORIAN
METHOD:PUBLISH
X-WR-CALNAME:Seaford Secondary College
X-ORIGINAL-URL:https://www.seafordhs.sa.edu.au
X-WR-CALDESC:Events for Seaford Secondary College
REFRESH-INTERVAL;VALUE=DURATION:PT1H
X-Robots-Tag:noindex
X-PUBLISHED-TTL:PT1H
BEGIN:VTIMEZONE
TZID:Australia/Adelaide
BEGIN:STANDARD
TZOFFSETFROM:+1030
TZOFFSETTO:+0930
TZNAME:ACST
DTSTART:20210403T163000
END:STANDARD
BEGIN:DAYLIGHT
TZOFFSETFROM:+0930
TZOFFSETTO:+1030
TZNAME:ACDT
DTSTART:20211002T163000
END:DAYLIGHT
BEGIN:STANDARD
TZOFFSETFROM:+1030
TZOFFSETTO:+0930
TZNAME:ACST
DTSTART:20220402T163000
END:STANDARD
BEGIN:DAYLIGHT
TZOFFSETFROM:+0930
TZOFFSETTO:+1030
TZNAME:ACDT
DTSTART:20221001T163000
END:DAYLIGHT
BEGIN:STANDARD
TZOFFSETFROM:+1030
TZOFFSETTO:+0930
TZNAME:ACST
DTSTART:20230401T163000
END:STANDARD
BEGIN:DAYLIGHT
TZOFFSETFROM:+0930
TZOFFSETTO:+1030
TZNAME:ACDT
DTSTART:20230930T163000
END:DAYLIGHT
BEGIN:STANDARD
TZOFFSETFROM:+1030
TZOFFSETTO:+0930
TZNAME:ACST
DTSTART:20240406T163000
END:STANDARD
BEGIN:DAYLIGHT
TZOFFSETFROM:+0930
TZOFFSETTO:+1030
TZNAME:ACDT
DTSTART:20241005T163000
END:DAYLIGHT
BEGIN:STANDARD
TZOFFSETFROM:+1030
TZOFFSETTO:+0930
TZNAME:ACST
DTSTART:20250405T163000
END:STANDARD
BEGIN:DAYLIGHT
TZOFFSETFROM:+0930
TZOFFSETTO:+1030
TZNAME:ACDT
DTSTART:20251004T163000
END:DAYLIGHT
END:VTIMEZONE
BEGIN:VEVENT
DTSTART;VALUE=DATE:20240905
DTEND;VALUE=DATE:20240906
DTSTAMP:20260422T003314
CREATED:20240710T023925Z
LAST-MODIFIED:20240813T050841Z
UID:10000412-1725494400-1725580799@www.seafordhs.sa.edu.au
SUMMARY:Student Free Day
DESCRIPTION:
URL:https://www.seafordhs.sa.edu.au/event/student-free-day-12/
CATEGORIES:Student Free Days
END:VEVENT
BEGIN:VEVENT
DTSTART;VALUE=DATE:20240611
DTEND;VALUE=DATE:20240612
DTSTAMP:20260422T003314
CREATED:20240417T042541Z
LAST-MODIFIED:20240417T042541Z
UID:10000336-1718064000-1718150399@www.seafordhs.sa.edu.au
SUMMARY:Student Free Day
DESCRIPTION:
URL:https://www.seafordhs.sa.edu.au/event/student-free-day-11/
CATEGORIES:School Closures,Student Free Days
END:VEVENT
BEGIN:VEVENT
DTSTART;VALUE=DATE:20240610
DTEND;VALUE=DATE:20240611
DTSTAMP:20260422T003314
CREATED:20240417T042520Z
LAST-MODIFIED:20240417T042520Z
UID:10000334-1717977600-1718063999@www.seafordhs.sa.edu.au
SUMMARY:King's Birthday Public Holiday
DESCRIPTION:
URL:https://www.seafordhs.sa.edu.au/event/kings-birthday-public-holiday/
CATEGORIES:School Closures,Public Holiday
END:VEVENT
BEGIN:VEVENT
DTSTART;VALUE=DATE:20240329
DTEND;VALUE=DATE:20240402
DTSTAMP:20260422T003314
CREATED:20240201T091651Z
LAST-MODIFIED:20240201T091651Z
UID:10000386-1711670400-1712015999@www.seafordhs.sa.edu.au
SUMMARY:Easter Public Holiday Weekend
DESCRIPTION:
URL:https://www.seafordhs.sa.edu.au/event/easter-public-holiday-weekend/
CATEGORIES:School Closures,Public Holiday
END:VEVENT
BEGIN:VEVENT
DTSTART;VALUE=DATE:20240328
DTEND;VALUE=DATE:20240329
DTSTAMP:20260422T003314
CREATED:20240201T091624Z
LAST-MODIFIED:20240201T091624Z
UID:10000384-1711584000-1711670399@www.seafordhs.sa.edu.au
SUMMARY:Student Free Day
DESCRIPTION:
URL:https://www.seafordhs.sa.edu.au/event/student-free-day-10/
CATEGORIES:School Closures,Student Free Days
END:VEVENT
BEGIN:VEVENT
DTSTART;VALUE=DATE:20240311
DTEND;VALUE=DATE:20240312
DTSTAMP:20260422T003314
CREATED:20240201T091306Z
LAST-MODIFIED:20240201T091306Z
UID:10000378-1710115200-1710201599@www.seafordhs.sa.edu.au
SUMMARY:Adelaide Cup Public Holiday
DESCRIPTION:
URL:https://www.seafordhs.sa.edu.au/event/adelaide-cup-public-holiday-2/
CATEGORIES:School Closures,Public Holiday
END:VEVENT
BEGIN:VEVENT
DTSTART;VALUE=DATE:20231124
DTEND;VALUE=DATE:20231125
DTSTAMP:20260422T003314
CREATED:20230426T045918Z
LAST-MODIFIED:20230426T045918Z
UID:10000359-1700784000-1700870399@www.seafordhs.sa.edu.au
SUMMARY:Student Free Day
DESCRIPTION:
URL:https://www.seafordhs.sa.edu.au/event/student-free-day-8/
CATEGORIES:Student Free Days
END:VEVENT
BEGIN:VEVENT
DTSTART;VALUE=DATE:20230905
DTEND;VALUE=DATE:20230906
DTSTAMP:20260422T003314
CREATED:20230426T043300Z
LAST-MODIFIED:20230426T043521Z
UID:10000344-1693872000-1693958399@www.seafordhs.sa.edu.au
SUMMARY:Student Free Day
DESCRIPTION:
URL:https://www.seafordhs.sa.edu.au/event/student-free-day-7/
CATEGORIES:Student Free Days
END:VEVENT
BEGIN:VEVENT
DTSTART;VALUE=DATE:20230904
DTEND;VALUE=DATE:20230905
DTSTAMP:20260422T003314
CREATED:20230426T043157Z
LAST-MODIFIED:20230426T043157Z
UID:10000343-1693785600-1693871999@www.seafordhs.sa.edu.au
SUMMARY:School Closure Day
DESCRIPTION:
URL:https://www.seafordhs.sa.edu.au/event/school-closure-day/
CATEGORIES:Student Free Days
END:VEVENT
BEGIN:VEVENT
DTSTART;VALUE=DATE:20230613
DTEND;VALUE=DATE:20230614
DTSTAMP:20260422T003314
CREATED:20230426T025528Z
LAST-MODIFIED:20230426T025528Z
UID:10000327-1686614400-1686700799@www.seafordhs.sa.edu.au
SUMMARY:Student Free Day
DESCRIPTION:
URL:https://www.seafordhs.sa.edu.au/event/student-free-day-6/
CATEGORIES:Student Free Days
END:VEVENT
BEGIN:VEVENT
DTSTART;VALUE=DATE:20230612
DTEND;VALUE=DATE:20230613
DTSTAMP:20260422T003314
CREATED:20230426T025433Z
LAST-MODIFIED:20230426T025433Z
UID:10000326-1686528000-1686614399@www.seafordhs.sa.edu.au
SUMMARY:King's Birthday
DESCRIPTION:
URL:https://www.seafordhs.sa.edu.au/event/kings-birthday/
CATEGORIES:Public Holiday
END:VEVENT
BEGIN:VEVENT
DTSTART;VALUE=DATE:20230407
DTEND;VALUE=DATE:20230411
DTSTAMP:20260422T003314
CREATED:20230206T003225Z
LAST-MODIFIED:20230206T003225Z
UID:10000264-1680825600-1681171199@www.seafordhs.sa.edu.au
SUMMARY:Easter Weekend
DESCRIPTION:
URL:https://www.seafordhs.sa.edu.au/event/easter-weekend/
CATEGORIES:Public Holiday
END:VEVENT
BEGIN:VEVENT
DTSTART;VALUE=DATE:20230406
DTEND;VALUE=DATE:20230407
DTSTAMP:20260422T003314
CREATED:20230206T003147Z
LAST-MODIFIED:20230206T003147Z
UID:10000262-1680739200-1680825599@www.seafordhs.sa.edu.au
SUMMARY:Student Free Day
DESCRIPTION:
URL:https://www.seafordhs.sa.edu.au/event/student-free-day-5/
CATEGORIES:Student Free Days
END:VEVENT
BEGIN:VEVENT
DTSTART;VALUE=DATE:20230313
DTEND;VALUE=DATE:20230314
DTSTAMP:20260422T003314
CREATED:20230206T002923Z
LAST-MODIFIED:20230206T002929Z
UID:10000316-1678665600-1678751999@www.seafordhs.sa.edu.au
SUMMARY:Adelaide Cup Public Holiday
DESCRIPTION:
URL:https://www.seafordhs.sa.edu.au/event/adelaide-cup-public-holiday/
CATEGORIES:Public Holiday
END:VEVENT
BEGIN:VEVENT
DTSTART;VALUE=DATE:20221003
DTEND;VALUE=DATE:20221004
DTSTAMP:20260422T003314
CREATED:20220114T035642Z
LAST-MODIFIED:20220116T231655Z
UID:10000246-1664755200-1664841599@www.seafordhs.sa.edu.au
SUMMARY:Labour Day Public Holiday
DESCRIPTION:
URL:https://www.seafordhs.sa.edu.au/event/labour-day/
CATEGORIES:Public Holiday
END:VEVENT
BEGIN:VEVENT
DTSTART;VALUE=DATE:20220916
DTEND;VALUE=DATE:20220917
DTSTAMP:20260422T003314
CREATED:20220225T052032Z
LAST-MODIFIED:20220225T052032Z
UID:10000278-1663286400-1663372799@www.seafordhs.sa.edu.au
SUMMARY:Student Free Day
DESCRIPTION:
URL:https://www.seafordhs.sa.edu.au/event/student-free-day/
CATEGORIES:Student Free Days
END:VEVENT
BEGIN:VEVENT
DTSTART;VALUE=DATE:20220822
DTEND;VALUE=DATE:20220823
DTSTAMP:20260422T003314
CREATED:20220607T000805Z
LAST-MODIFIED:20220607T000806Z
UID:10000289-1661126400-1661212799@www.seafordhs.sa.edu.au
SUMMARY:School Closure
DESCRIPTION:
URL:https://www.seafordhs.sa.edu.au/event/school-closure/
CATEGORIES:Student Free Days
END:VEVENT
BEGIN:VEVENT
DTSTART;VALUE=DATE:20220614
DTEND;VALUE=DATE:20220615
DTSTAMP:20260422T003314
CREATED:20220116T230851Z
LAST-MODIFIED:20220116T232121Z
UID:10000261-1655164800-1655251199@www.seafordhs.sa.edu.au
SUMMARY:Student Free Day
DESCRIPTION:
URL:https://www.seafordhs.sa.edu.au/event/student-free-day-3/
CATEGORIES:Student Free Days
END:VEVENT
BEGIN:VEVENT
DTSTART;VALUE=DATE:20220613
DTEND;VALUE=DATE:20220614
DTSTAMP:20260422T003314
CREATED:20220114T035550Z
LAST-MODIFIED:20220116T231717Z
UID:10000245-1655078400-1655164799@www.seafordhs.sa.edu.au
SUMMARY:Queen's Birthday Public Holiday
DESCRIPTION:
URL:https://www.seafordhs.sa.edu.au/event/queens-birthday/
CATEGORIES:Public Holiday
END:VEVENT
BEGIN:VEVENT
DTSTART;VALUE=DATE:20220530
DTEND;VALUE=DATE:20220531
DTSTAMP:20260422T003314
CREATED:20220114T051922Z
LAST-MODIFIED:20220116T232140Z
UID:10000257-1653868800-1653955199@www.seafordhs.sa.edu.au
SUMMARY:Student Free Day
DESCRIPTION:
URL:https://www.seafordhs.sa.edu.au/event/student-free-day-2/
CATEGORIES:Student Free Days
END:VEVENT
BEGIN:VEVENT
DTSTART;VALUE=DATE:20220425
DTEND;VALUE=DATE:20220426
DTSTAMP:20260422T003314
CREATED:20220114T035457Z
LAST-MODIFIED:20220116T231742Z
UID:10000244-1650844800-1650931199@www.seafordhs.sa.edu.au
SUMMARY:ANZAC Day Public Holiday
DESCRIPTION:
URL:https://www.seafordhs.sa.edu.au/event/anzac-day/
CATEGORIES:Public Holiday
END:VEVENT
BEGIN:VEVENT
DTSTART;VALUE=DATE:20220418
DTEND;VALUE=DATE:20220419
DTSTAMP:20260422T003314
CREATED:20220114T035327Z
LAST-MODIFIED:20220114T035327Z
UID:10000243-1650240000-1650326399@www.seafordhs.sa.edu.au
SUMMARY:Easter Monday
DESCRIPTION:
URL:https://www.seafordhs.sa.edu.au/event/easter-monday/
CATEGORIES:Public Holiday
END:VEVENT
BEGIN:VEVENT
DTSTART;VALUE=DATE:20220417
DTEND;VALUE=DATE:20220418
DTSTAMP:20260422T003314
CREATED:20220114T035232Z
LAST-MODIFIED:20220114T035232Z
UID:10000242-1650153600-1650239999@www.seafordhs.sa.edu.au
SUMMARY:Easter Sunday
DESCRIPTION:
URL:https://www.seafordhs.sa.edu.au/event/easter-sunday/
CATEGORIES:Public Holiday
END:VEVENT
BEGIN:VEVENT
DTSTART;VALUE=DATE:20220416
DTEND;VALUE=DATE:20220417
DTSTAMP:20260422T003314
CREATED:20220114T035147Z
LAST-MODIFIED:20220116T232033Z
UID:10000241-1650067200-1650153599@www.seafordhs.sa.edu.au
SUMMARY:Easter Saturday
DESCRIPTION:
URL:https://www.seafordhs.sa.edu.au/event/easter-saturday/
CATEGORIES:Public Holiday
END:VEVENT
BEGIN:VEVENT
DTSTART;VALUE=DATE:20220415
DTEND;VALUE=DATE:20220416
DTSTAMP:20260422T003314
CREATED:20220114T035112Z
LAST-MODIFIED:20220114T035112Z
UID:10000240-1649980800-1650067199@www.seafordhs.sa.edu.au
SUMMARY:Good Friday
DESCRIPTION:
URL:https://www.seafordhs.sa.edu.au/event/good-friday/
CATEGORIES:Public Holiday
END:VEVENT
BEGIN:VEVENT
DTSTART;VALUE=DATE:20220314
DTEND;VALUE=DATE:20220315
DTSTAMP:20260422T003314
CREATED:20220114T035010Z
LAST-MODIFIED:20220118T230014Z
UID:10000239-1647216000-1647302399@www.seafordhs.sa.edu.au
SUMMARY:Adelaide Cup Public Holiday
DESCRIPTION:
URL:https://www.seafordhs.sa.edu.au/event/adelaide-cup/
CATEGORIES:Public Holiday
END:VEVENT
BEGIN:VEVENT
DTSTART;VALUE=DATE:20220126
DTEND;VALUE=DATE:20220127
DTSTAMP:20260422T003314
CREATED:20220114T034426Z
LAST-MODIFIED:20220114T034749Z
UID:10000238-1643155200-1643241599@www.seafordhs.sa.edu.au
SUMMARY:Australia Day
DESCRIPTION:
URL:https://www.seafordhs.sa.edu.au/event/australia-day/
CATEGORIES:Public Holiday
END:VEVENT
END:VCALENDAR