BEGIN:VCALENDAR
VERSION:2.0
PRODID:-//Seaford Secondary College - ECPv6.15.12.2//NONSGML v1.0//EN
CALSCALE:GREGORIAN
METHOD:PUBLISH
X-WR-CALNAME:Seaford Secondary College
X-ORIGINAL-URL:https://www.seafordhs.sa.edu.au
X-WR-CALDESC:Events for Seaford Secondary College
REFRESH-INTERVAL;VALUE=DURATION:PT1H
X-Robots-Tag:noindex
X-PUBLISHED-TTL:PT1H
BEGIN:VTIMEZONE
TZID:Australia/Adelaide
BEGIN:STANDARD
TZOFFSETFROM:+1030
TZOFFSETTO:+0930
TZNAME:ACST
DTSTART:20250405T163000
END:STANDARD
BEGIN:DAYLIGHT
TZOFFSETFROM:+0930
TZOFFSETTO:+1030
TZNAME:ACDT
DTSTART:20251004T163000
END:DAYLIGHT
BEGIN:STANDARD
TZOFFSETFROM:+1030
TZOFFSETTO:+0930
TZNAME:ACST
DTSTART:20260404T163000
END:STANDARD
BEGIN:DAYLIGHT
TZOFFSETFROM:+0930
TZOFFSETTO:+1030
TZNAME:ACDT
DTSTART:20261003T163000
END:DAYLIGHT
BEGIN:STANDARD
TZOFFSETFROM:+1030
TZOFFSETTO:+0930
TZNAME:ACST
DTSTART:20270403T163000
END:STANDARD
BEGIN:DAYLIGHT
TZOFFSETFROM:+0930
TZOFFSETTO:+1030
TZNAME:ACDT
DTSTART:20271002T163000
END:DAYLIGHT
END:VTIMEZONE
BEGIN:VEVENT
DTSTART;VALUE=DATE:20260406
DTEND;VALUE=DATE:20260407
DTSTAMP:20260423T074141
CREATED:20260318T223734Z
LAST-MODIFIED:20260318T223734Z
UID:10000474-1775433600-1775519999@www.seafordhs.sa.edu.au
SUMMARY:Easter Monday - Public Holiday
DESCRIPTION:
URL:https://www.seafordhs.sa.edu.au/event/easter-monday-public-holiday/
CATEGORIES:School Closures,Public Holiday
END:VEVENT
BEGIN:VEVENT
DTSTART;VALUE=DATE:20260425
DTEND;VALUE=DATE:20260426
DTSTAMP:20260423T074141
CREATED:20260318T235517Z
LAST-MODIFIED:20260318T235517Z
UID:10000523-1777075200-1777161599@www.seafordhs.sa.edu.au
SUMMARY:ANZAC Day
DESCRIPTION:
URL:https://www.seafordhs.sa.edu.au/event/anzac-day-2/
CATEGORIES:Public Holiday
END:VEVENT
BEGIN:VEVENT
DTSTART;VALUE=DATE:20260608
DTEND;VALUE=DATE:20260609
DTSTAMP:20260423T074141
CREATED:20260318T225947Z
LAST-MODIFIED:20260318T225947Z
UID:10000486-1780876800-1780963199@www.seafordhs.sa.edu.au
SUMMARY:King's Birthday - Public Holiday
DESCRIPTION:
URL:https://www.seafordhs.sa.edu.au/event/kings-birthday-public-holiday-2/
CATEGORIES:School Closures,Public Holiday
END:VEVENT
BEGIN:VEVENT
DTSTART;VALUE=DATE:20260609
DTEND;VALUE=DATE:20260610
DTSTAMP:20260423T074141
CREATED:20260318T230009Z
LAST-MODIFIED:20260318T230009Z
UID:10000487-1780963200-1781049599@www.seafordhs.sa.edu.au
SUMMARY:Student Free Day
DESCRIPTION:
URL:https://www.seafordhs.sa.edu.au/event/student-free-day-19/
CATEGORIES:School Closures,Student Free Days
END:VEVENT
BEGIN:VEVENT
DTSTART;VALUE=DATE:20260904
DTEND;VALUE=DATE:20260905
DTSTAMP:20260423T074141
CREATED:20260318T233858Z
LAST-MODIFIED:20260318T233858Z
UID:10000501-1788480000-1788566399@www.seafordhs.sa.edu.au
SUMMARY:Student Free Day - Term 3
DESCRIPTION:
URL:https://www.seafordhs.sa.edu.au/event/student-free-day-term-3/
CATEGORIES:School Closures,Student Free Days
END:VEVENT
BEGIN:VEVENT
DTSTART;VALUE=DATE:20260907
DTEND;VALUE=DATE:20260908
DTSTAMP:20260423T074141
CREATED:20260318T233926Z
LAST-MODIFIED:20260318T233932Z
UID:10000502-1788739200-1788825599@www.seafordhs.sa.edu.au
SUMMARY:School Closure Day
DESCRIPTION:
URL:https://www.seafordhs.sa.edu.au/event/school-closure-day-4/
CATEGORIES:School Closure Day,School Closures
END:VEVENT
BEGIN:VEVENT
DTSTART;VALUE=DATE:20261005
DTEND;VALUE=DATE:20261006
DTSTAMP:20260423T074141
CREATED:20260318T235539Z
LAST-MODIFIED:20260318T235539Z
UID:10000524-1791158400-1791244799@www.seafordhs.sa.edu.au
SUMMARY:Labour Day
DESCRIPTION:
URL:https://www.seafordhs.sa.edu.au/event/labour-day-2/
CATEGORIES:Public Holiday
END:VEVENT
BEGIN:VEVENT
DTSTART;VALUE=DATE:20261123
DTEND;VALUE=DATE:20261124
DTSTAMP:20260423T074141
CREATED:20260318T235036Z
LAST-MODIFIED:20260318T235036Z
UID:10000517-1795392000-1795478399@www.seafordhs.sa.edu.au
SUMMARY:Student Free Day
DESCRIPTION:
URL:https://www.seafordhs.sa.edu.au/event/student-free-day-20/
CATEGORIES:School Closures,Student Free Days
END:VEVENT
BEGIN:VEVENT
DTSTART;VALUE=DATE:20261224
DTEND;VALUE=DATE:20261225
DTSTAMP:20260423T074141
CREATED:20260318T235653Z
LAST-MODIFIED:20260318T235653Z
UID:10000526-1798070400-1798156799@www.seafordhs.sa.edu.au
SUMMARY:Christmas Eve
DESCRIPTION:
URL:https://www.seafordhs.sa.edu.au/event/christmas-eve/
CATEGORIES:School Closures
END:VEVENT
BEGIN:VEVENT
DTSTART;VALUE=DATE:20261225
DTEND;VALUE=DATE:20261226
DTSTAMP:20260423T074141
CREATED:20260318T235856Z
LAST-MODIFIED:20260318T235856Z
UID:10000527-1798156800-1798243199@www.seafordhs.sa.edu.au
SUMMARY:Christmas Day
DESCRIPTION:
URL:https://www.seafordhs.sa.edu.au/event/christmas-day/
CATEGORIES:Public Holiday
END:VEVENT
BEGIN:VEVENT
DTSTART;TZID=Australia/Adelaide:20261226T080000
DTEND;TZID=Australia/Adelaide:20261226T170000
DTSTAMP:20260423T074141
CREATED:20260318T235919Z
LAST-MODIFIED:20260318T235919Z
UID:10000528-1798272000-1798304400@www.seafordhs.sa.edu.au
SUMMARY:Proclamation Day Holiday
DESCRIPTION:
URL:https://www.seafordhs.sa.edu.au/event/proclamation-day-holiday/
CATEGORIES:Public Holiday
END:VEVENT
BEGIN:VEVENT
DTSTART;VALUE=DATE:20261228
DTEND;VALUE=DATE:20261229
DTSTAMP:20260423T074141
CREATED:20260318T235955Z
LAST-MODIFIED:20260318T235955Z
UID:10000529-1798416000-1798502399@www.seafordhs.sa.edu.au
SUMMARY:Proclamation Day (additional public holiday)
DESCRIPTION:
URL:https://www.seafordhs.sa.edu.au/event/proclamation-day-additional-public-holiday/
CATEGORIES:Public Holiday
END:VEVENT
BEGIN:VEVENT
DTSTART;VALUE=DATE:20261231
DTEND;VALUE=DATE:20270101
DTSTAMP:20260423T074141
CREATED:20260319T000046Z
LAST-MODIFIED:20260319T000046Z
UID:10000530-1798675200-1798761599@www.seafordhs.sa.edu.au
SUMMARY:New Years Eve
DESCRIPTION:
URL:https://www.seafordhs.sa.edu.au/event/new-years-eve/
CATEGORIES:School Closures
END:VEVENT
END:VCALENDAR