BEGIN:VCALENDAR
VERSION:2.0
PRODID:-//Seaford Secondary College - ECPv6.15.12.2//NONSGML v1.0//EN
CALSCALE:GREGORIAN
METHOD:PUBLISH
X-ORIGINAL-URL:https://www.seafordhs.sa.edu.au
X-WR-CALDESC:Events for Seaford Secondary College
REFRESH-INTERVAL;VALUE=DURATION:PT1H
X-Robots-Tag:noindex
X-PUBLISHED-TTL:PT1H
BEGIN:VTIMEZONE
TZID:Australia/Adelaide
BEGIN:STANDARD
TZOFFSETFROM:+1030
TZOFFSETTO:+0930
TZNAME:ACST
DTSTART:20250405T163000
END:STANDARD
BEGIN:DAYLIGHT
TZOFFSETFROM:+0930
TZOFFSETTO:+1030
TZNAME:ACDT
DTSTART:20251004T163000
END:DAYLIGHT
BEGIN:STANDARD
TZOFFSETFROM:+1030
TZOFFSETTO:+0930
TZNAME:ACST
DTSTART:20260404T163000
END:STANDARD
BEGIN:DAYLIGHT
TZOFFSETFROM:+0930
TZOFFSETTO:+1030
TZNAME:ACDT
DTSTART:20261003T163000
END:DAYLIGHT
BEGIN:STANDARD
TZOFFSETFROM:+1030
TZOFFSETTO:+0930
TZNAME:ACST
DTSTART:20270403T163000
END:STANDARD
BEGIN:DAYLIGHT
TZOFFSETFROM:+0930
TZOFFSETTO:+1030
TZNAME:ACDT
DTSTART:20271002T163000
END:DAYLIGHT
END:VTIMEZONE
BEGIN:VEVENT
DTSTART;VALUE=DATE:20260425
DTEND;VALUE=DATE:20260426
DTSTAMP:20260419T214732
CREATED:20260318T235517Z
LAST-MODIFIED:20260318T235517Z
UID:10000523-1777075200-1777161599@www.seafordhs.sa.edu.au
SUMMARY:ANZAC Day
DESCRIPTION:
URL:https://www.seafordhs.sa.edu.au/event/anzac-day-2/
CATEGORIES:Public Holiday
END:VEVENT
BEGIN:VEVENT
DTSTART;VALUE=DATE:20260608
DTEND;VALUE=DATE:20260609
DTSTAMP:20260419T214732
CREATED:20260318T225947Z
LAST-MODIFIED:20260318T225947Z
UID:10000486-1780876800-1780963199@www.seafordhs.sa.edu.au
SUMMARY:King's Birthday - Public Holiday
DESCRIPTION:
URL:https://www.seafordhs.sa.edu.au/event/kings-birthday-public-holiday-2/
CATEGORIES:School Closures,Public Holiday
END:VEVENT
BEGIN:VEVENT
DTSTART;VALUE=DATE:20261005
DTEND;VALUE=DATE:20261006
DTSTAMP:20260419T214732
CREATED:20260318T235539Z
LAST-MODIFIED:20260318T235539Z
UID:10000524-1791158400-1791244799@www.seafordhs.sa.edu.au
SUMMARY:Labour Day
DESCRIPTION:
URL:https://www.seafordhs.sa.edu.au/event/labour-day-2/
CATEGORIES:Public Holiday
END:VEVENT
BEGIN:VEVENT
DTSTART;VALUE=DATE:20261225
DTEND;VALUE=DATE:20261226
DTSTAMP:20260419T214732
CREATED:20260318T235856Z
LAST-MODIFIED:20260318T235856Z
UID:10000527-1798156800-1798243199@www.seafordhs.sa.edu.au
SUMMARY:Christmas Day
DESCRIPTION:
URL:https://www.seafordhs.sa.edu.au/event/christmas-day/
CATEGORIES:Public Holiday
END:VEVENT
BEGIN:VEVENT
DTSTART;TZID=Australia/Adelaide:20261226T080000
DTEND;TZID=Australia/Adelaide:20261226T170000
DTSTAMP:20260419T214732
CREATED:20260318T235919Z
LAST-MODIFIED:20260318T235919Z
UID:10000528-1798272000-1798304400@www.seafordhs.sa.edu.au
SUMMARY:Proclamation Day Holiday
DESCRIPTION:
URL:https://www.seafordhs.sa.edu.au/event/proclamation-day-holiday/
CATEGORIES:Public Holiday
END:VEVENT
BEGIN:VEVENT
DTSTART;VALUE=DATE:20261228
DTEND;VALUE=DATE:20261229
DTSTAMP:20260419T214732
CREATED:20260318T235955Z
LAST-MODIFIED:20260318T235955Z
UID:10000529-1798416000-1798502399@www.seafordhs.sa.edu.au
SUMMARY:Proclamation Day (additional public holiday)
DESCRIPTION:
URL:https://www.seafordhs.sa.edu.au/event/proclamation-day-additional-public-holiday/
CATEGORIES:Public Holiday
END:VEVENT
END:VCALENDAR