BEGIN:VCALENDAR
VERSION:2.0
PRODID:-//Seaford Secondary College - ECPv6.15.12.2//NONSGML v1.0//EN
CALSCALE:GREGORIAN
METHOD:PUBLISH
X-ORIGINAL-URL:https://www.seafordhs.sa.edu.au
X-WR-CALDESC:Events for Seaford Secondary College
REFRESH-INTERVAL;VALUE=DURATION:PT1H
X-Robots-Tag:noindex
X-PUBLISHED-TTL:PT1H
BEGIN:VTIMEZONE
TZID:Australia/Adelaide
BEGIN:STANDARD
TZOFFSETFROM:+1030
TZOFFSETTO:+0930
TZNAME:ACST
DTSTART:20210403T163000
END:STANDARD
BEGIN:DAYLIGHT
TZOFFSETFROM:+0930
TZOFFSETTO:+1030
TZNAME:ACDT
DTSTART:20211002T163000
END:DAYLIGHT
BEGIN:STANDARD
TZOFFSETFROM:+1030
TZOFFSETTO:+0930
TZNAME:ACST
DTSTART:20220402T163000
END:STANDARD
BEGIN:DAYLIGHT
TZOFFSETFROM:+0930
TZOFFSETTO:+1030
TZNAME:ACDT
DTSTART:20221001T163000
END:DAYLIGHT
BEGIN:STANDARD
TZOFFSETFROM:+1030
TZOFFSETTO:+0930
TZNAME:ACST
DTSTART:20230401T163000
END:STANDARD
BEGIN:DAYLIGHT
TZOFFSETFROM:+0930
TZOFFSETTO:+1030
TZNAME:ACDT
DTSTART:20230930T163000
END:DAYLIGHT
BEGIN:STANDARD
TZOFFSETFROM:+1030
TZOFFSETTO:+0930
TZNAME:ACST
DTSTART:20240406T163000
END:STANDARD
BEGIN:DAYLIGHT
TZOFFSETFROM:+0930
TZOFFSETTO:+1030
TZNAME:ACDT
DTSTART:20241005T163000
END:DAYLIGHT
BEGIN:STANDARD
TZOFFSETFROM:+1030
TZOFFSETTO:+0930
TZNAME:ACST
DTSTART:20250405T163000
END:STANDARD
BEGIN:DAYLIGHT
TZOFFSETFROM:+0930
TZOFFSETTO:+1030
TZNAME:ACDT
DTSTART:20251004T163000
END:DAYLIGHT
BEGIN:STANDARD
TZOFFSETFROM:+1030
TZOFFSETTO:+0930
TZNAME:ACST
DTSTART:20260404T163000
END:STANDARD
BEGIN:DAYLIGHT
TZOFFSETFROM:+0930
TZOFFSETTO:+1030
TZNAME:ACDT
DTSTART:20261003T163000
END:DAYLIGHT
END:VTIMEZONE
BEGIN:VEVENT
DTSTART;VALUE=DATE:20250902
DTEND;VALUE=DATE:20250903
DTSTAMP:20260419T214955
CREATED:20250725T021409Z
LAST-MODIFIED:20250725T021409Z
UID:10000466-1756771200-1756857599@www.seafordhs.sa.edu.au
SUMMARY:Whole School Photo catch up day
DESCRIPTION:
URL:https://www.seafordhs.sa.edu.au/event/whole-school-photo-catch-up-day/
LOCATION:Seaford Secondary College
CATEGORIES:School Photos
END:VEVENT
BEGIN:VEVENT
DTSTART;VALUE=DATE:20250825
DTEND;VALUE=DATE:20250826
DTSTAMP:20260419T214955
CREATED:20250220T014320Z
LAST-MODIFIED:20250725T021033Z
UID:10000449-1756080000-1756166399@www.seafordhs.sa.edu.au
SUMMARY:Whole School Photos
DESCRIPTION:
URL:https://www.seafordhs.sa.edu.au/event/whole-school-photos-4/
LOCATION:Seaford Secondary College
CATEGORIES:School Photos
END:VEVENT
BEGIN:VEVENT
DTSTART;VALUE=DATE:20240516
DTEND;VALUE=DATE:20240518
DTSTAMP:20260419T214955
CREATED:20240417T042338Z
LAST-MODIFIED:20240417T042338Z
UID:10000330-1715817600-1715990399@www.seafordhs.sa.edu.au
SUMMARY:Whole School Photos
DESCRIPTION:
URL:https://www.seafordhs.sa.edu.au/event/whole-school-photos-3/
CATEGORIES:School Photos
END:VEVENT
BEGIN:VEVENT
DTSTART;VALUE=DATE:20240209
DTEND;VALUE=DATE:20240210
DTSTAMP:20260419T214955
CREATED:20240201T090905Z
LAST-MODIFIED:20240201T090905Z
UID:10000372-1707436800-1707523199@www.seafordhs.sa.edu.au
SUMMARY:Whole School ID Photos Day
DESCRIPTION:
URL:https://www.seafordhs.sa.edu.au/event/whole-school-id-photos-day/
CATEGORIES:School Photos
END:VEVENT
BEGIN:VEVENT
DTSTART;VALUE=DATE:20220519
DTEND;VALUE=DATE:20220521
DTSTAMP:20260419T214955
CREATED:20220114T045552Z
LAST-MODIFIED:20220119T224004Z
UID:10000254-1652918400-1653091199@www.seafordhs.sa.edu.au
SUMMARY:Whole School Photos
DESCRIPTION:
URL:https://www.seafordhs.sa.edu.au/event/whole-school-photos/
CATEGORIES:School Photos
END:VEVENT
BEGIN:VEVENT
DTSTART;VALUE=DATE:20220207
DTEND;VALUE=DATE:20220208
DTSTAMP:20260419T214955
CREATED:20220119T222745Z
LAST-MODIFIED:20220119T222745Z
UID:10000275-1644192000-1644278399@www.seafordhs.sa.edu.au
SUMMARY:Student ID Photo Day
DESCRIPTION:
URL:https://www.seafordhs.sa.edu.au/event/student-id-photo-day/
CATEGORIES:School Photos
END:VEVENT
END:VCALENDAR