BEGIN:VCALENDAR
VERSION:2.0
PRODID:-//Seaford Secondary College - ECPv6.15.12.2//NONSGML v1.0//EN
CALSCALE:GREGORIAN
METHOD:PUBLISH
X-WR-CALNAME:Seaford Secondary College
X-ORIGINAL-URL:https://www.seafordhs.sa.edu.au
X-WR-CALDESC:Events for Seaford Secondary College
REFRESH-INTERVAL;VALUE=DURATION:PT1H
X-Robots-Tag:noindex
X-PUBLISHED-TTL:PT1H
BEGIN:VTIMEZONE
TZID:Australia/Adelaide
BEGIN:STANDARD
TZOFFSETFROM:+1030
TZOFFSETTO:+0930
TZNAME:ACST
DTSTART:20210403T163000
END:STANDARD
BEGIN:DAYLIGHT
TZOFFSETFROM:+0930
TZOFFSETTO:+1030
TZNAME:ACDT
DTSTART:20211002T163000
END:DAYLIGHT
BEGIN:STANDARD
TZOFFSETFROM:+1030
TZOFFSETTO:+0930
TZNAME:ACST
DTSTART:20220402T163000
END:STANDARD
BEGIN:DAYLIGHT
TZOFFSETFROM:+0930
TZOFFSETTO:+1030
TZNAME:ACDT
DTSTART:20221001T163000
END:DAYLIGHT
BEGIN:STANDARD
TZOFFSETFROM:+1030
TZOFFSETTO:+0930
TZNAME:ACST
DTSTART:20230401T163000
END:STANDARD
BEGIN:DAYLIGHT
TZOFFSETFROM:+0930
TZOFFSETTO:+1030
TZNAME:ACDT
DTSTART:20230930T163000
END:DAYLIGHT
BEGIN:STANDARD
TZOFFSETFROM:+1030
TZOFFSETTO:+0930
TZNAME:ACST
DTSTART:20240406T163000
END:STANDARD
BEGIN:DAYLIGHT
TZOFFSETFROM:+0930
TZOFFSETTO:+1030
TZNAME:ACDT
DTSTART:20241005T163000
END:DAYLIGHT
BEGIN:STANDARD
TZOFFSETFROM:+1030
TZOFFSETTO:+0930
TZNAME:ACST
DTSTART:20250405T163000
END:STANDARD
BEGIN:DAYLIGHT
TZOFFSETFROM:+0930
TZOFFSETTO:+1030
TZNAME:ACDT
DTSTART:20251004T163000
END:DAYLIGHT
BEGIN:STANDARD
TZOFFSETFROM:+1030
TZOFFSETTO:+0930
TZNAME:ACST
DTSTART:20260404T163000
END:STANDARD
BEGIN:DAYLIGHT
TZOFFSETFROM:+0930
TZOFFSETTO:+1030
TZNAME:ACDT
DTSTART:20261003T163000
END:DAYLIGHT
END:VTIMEZONE
BEGIN:VEVENT
DTSTART;VALUE=DATE:20251028
DTEND;VALUE=DATE:20251029
DTSTAMP:20260420T004129
CREATED:20250807T055403Z
LAST-MODIFIED:20250807T055403Z
UID:10000467-1761609600-1761695999@www.seafordhs.sa.edu.au
SUMMARY:Year 10 Immunisations
DESCRIPTION:
URL:https://www.seafordhs.sa.edu.au/event/year-10-immunisations-4/
CATEGORIES:Student Health,Immunisations
END:VEVENT
BEGIN:VEVENT
DTSTART;VALUE=DATE:20250923
DTEND;VALUE=DATE:20250926
DTSTAMP:20260420T004129
CREATED:20250220T020215Z
LAST-MODIFIED:20250220T020215Z
UID:10000381-1758585600-1758844799@www.seafordhs.sa.edu.au
SUMMARY:School Dental
DESCRIPTION:
URL:https://www.seafordhs.sa.edu.au/event/school-dental-2/
LOCATION:Seaford Secondary College
CATEGORIES:School Dental
END:VEVENT
BEGIN:VEVENT
DTSTART;VALUE=DATE:20250819
DTEND;VALUE=DATE:20250820
DTSTAMP:20260420T004129
CREATED:20250220T015704Z
LAST-MODIFIED:20250807T052620Z
UID:10000456-1755561600-1755647999@www.seafordhs.sa.edu.au
SUMMARY:Year 7 Immunisations
DESCRIPTION:
URL:https://www.seafordhs.sa.edu.au/event/year-7-immunisations-2/
LOCATION:Seaford Secondary College
CATEGORIES:Immunisations
END:VEVENT
BEGIN:VEVENT
DTSTART;VALUE=DATE:20241024
DTEND;VALUE=DATE:20241026
DTSTAMP:20260420T004129
CREATED:20240710T023333Z
LAST-MODIFIED:20240729T052808Z
UID:10000407-1729728000-1729900799@www.seafordhs.sa.edu.au
SUMMARY:School Dental
DESCRIPTION:
URL:https://www.seafordhs.sa.edu.au/event/school-dental/
CATEGORIES:School Dental
END:VEVENT
BEGIN:VEVENT
DTSTART;VALUE=DATE:20240809
DTEND;VALUE=DATE:20240810
DTSTAMP:20260420T004129
CREATED:20240710T023503Z
LAST-MODIFIED:20240710T023503Z
UID:10000409-1723161600-1723247999@www.seafordhs.sa.edu.au
SUMMARY:Year 7 Immunisations
DESCRIPTION:
URL:https://www.seafordhs.sa.edu.au/event/year-7-immunisations/
CATEGORIES:Immunisations
END:VEVENT
BEGIN:VEVENT
DTSTART;VALUE=DATE:20231027
DTEND;VALUE=DATE:20231028
DTSTAMP:20260420T004129
CREATED:20230426T044347Z
LAST-MODIFIED:20230426T044347Z
UID:10000350-1698364800-1698451199@www.seafordhs.sa.edu.au
SUMMARY:Year 7 immunisation
DESCRIPTION:
URL:https://www.seafordhs.sa.edu.au/event/year-7-immunisation-2/
CATEGORIES:Immunisations
END:VEVENT
BEGIN:VEVENT
DTSTART;VALUE=DATE:20230926
DTEND;VALUE=DATE:20230927
DTSTAMP:20260420T004129
CREATED:20230426T043617Z
LAST-MODIFIED:20230426T043617Z
UID:10000346-1695686400-1695772799@www.seafordhs.sa.edu.au
SUMMARY:Year 8 Immunisation
DESCRIPTION:
URL:https://www.seafordhs.sa.edu.au/event/year-8-immunisation/
CATEGORIES:Immunisations
END:VEVENT
BEGIN:VEVENT
DTSTART;VALUE=DATE:20230811
DTEND;VALUE=DATE:20230812
DTSTAMP:20260420T004129
CREATED:20230426T042718Z
LAST-MODIFIED:20230426T042718Z
UID:10000340-1691712000-1691798399@www.seafordhs.sa.edu.au
SUMMARY:Year 10 Immunisations
DESCRIPTION:
URL:https://www.seafordhs.sa.edu.au/event/year-10-immunisations-3/
CATEGORIES:Immunisations
END:VEVENT
BEGIN:VEVENT
DTSTART;VALUE=DATE:20230530
DTEND;VALUE=DATE:20230531
DTSTAMP:20260420T004129
CREATED:20230426T025041Z
LAST-MODIFIED:20230426T025041Z
UID:10000321-1685404800-1685491199@www.seafordhs.sa.edu.au
SUMMARY:Year 7 Immunisation
DESCRIPTION:
URL:https://www.seafordhs.sa.edu.au/event/year-7-immunisation/
CATEGORIES:Immunisations
END:VEVENT
BEGIN:VEVENT
DTSTART;VALUE=DATE:20220928
DTEND;VALUE=DATE:20220929
DTSTAMP:20260420T004129
CREATED:20220118T224448Z
LAST-MODIFIED:20220925T232800Z
UID:10000271-1664323200-1664409599@www.seafordhs.sa.edu.au
SUMMARY:Year 8 Immunisations
DESCRIPTION:
URL:https://www.seafordhs.sa.edu.au/event/year-8-immunisations/
CATEGORIES:Immunisations
END:VEVENT
BEGIN:VEVENT
DTSTART;VALUE=DATE:20220704
DTEND;VALUE=DATE:20220705
DTSTAMP:20260420T004129
CREATED:20220116T232608Z
LAST-MODIFIED:20220116T232608Z
UID:10000267-1656892800-1656979199@www.seafordhs.sa.edu.au
SUMMARY:Year 10 Immunisations
DESCRIPTION:
URL:https://www.seafordhs.sa.edu.au/event/year-10-immunisations-2/
CATEGORIES:Immunisations
END:VEVENT
BEGIN:VEVENT
DTSTART;VALUE=DATE:20220531
DTEND;VALUE=DATE:20220604
DTSTAMP:20260420T004129
CREATED:20220114T052232Z
LAST-MODIFIED:20220331T035506Z
UID:10000259-1653955200-1654300799@www.seafordhs.sa.edu.au
SUMMARY:School Dental Visits
DESCRIPTION:
URL:https://www.seafordhs.sa.edu.au/event/school-dental-visits/
LOCATION:Seaford Secondary College
CATEGORIES:School Dental
END:VEVENT
BEGIN:VEVENT
DTSTART;TZID=Australia/Adelaide:20220512T090000
DTEND;TZID=Australia/Adelaide:20220512T150000
DTSTAMP:20260420T004129
CREATED:20220114T044443Z
LAST-MODIFIED:20220116T232644Z
UID:10000252-1652346000-1652367600@www.seafordhs.sa.edu.au
SUMMARY:Year 10 Immunisations
DESCRIPTION:
URL:https://www.seafordhs.sa.edu.au/event/year-10-immunisations/
CATEGORIES:Immunisations
END:VEVENT
BEGIN:VEVENT
DTSTART;VALUE=DATE:20220309
DTEND;VALUE=DATE:20220310
DTSTAMP:20260420T004129
CREATED:20220307T223048Z
LAST-MODIFIED:20220307T230434Z
UID:10000279-1646784000-1646870399@www.seafordhs.sa.edu.au
SUMMARY:Year 8 Immunisations
DESCRIPTION:
URL:https://www.seafordhs.sa.edu.au/event/year-8-immunisations-2/
CATEGORIES:Immunisations
END:VEVENT
END:VCALENDAR