BEGIN:VCALENDAR
VERSION:2.0
PRODID:-//Seaford Secondary College - ECPv6.15.12.2//NONSGML v1.0//EN
CALSCALE:GREGORIAN
METHOD:PUBLISH
X-ORIGINAL-URL:https://www.seafordhs.sa.edu.au
X-WR-CALDESC:Events for Seaford Secondary College
REFRESH-INTERVAL;VALUE=DURATION:PT1H
X-Robots-Tag:noindex
X-PUBLISHED-TTL:PT1H
BEGIN:VTIMEZONE
TZID:Australia/Adelaide
BEGIN:STANDARD
TZOFFSETFROM:+1030
TZOFFSETTO:+0930
TZNAME:ACST
DTSTART:20210403T163000
END:STANDARD
BEGIN:DAYLIGHT
TZOFFSETFROM:+0930
TZOFFSETTO:+1030
TZNAME:ACDT
DTSTART:20211002T163000
END:DAYLIGHT
BEGIN:STANDARD
TZOFFSETFROM:+1030
TZOFFSETTO:+0930
TZNAME:ACST
DTSTART:20220402T163000
END:STANDARD
BEGIN:DAYLIGHT
TZOFFSETFROM:+0930
TZOFFSETTO:+1030
TZNAME:ACDT
DTSTART:20221001T163000
END:DAYLIGHT
BEGIN:STANDARD
TZOFFSETFROM:+1030
TZOFFSETTO:+0930
TZNAME:ACST
DTSTART:20230401T163000
END:STANDARD
BEGIN:DAYLIGHT
TZOFFSETFROM:+0930
TZOFFSETTO:+1030
TZNAME:ACDT
DTSTART:20230930T163000
END:DAYLIGHT
END:VTIMEZONE
BEGIN:VEVENT
DTSTART;VALUE=DATE:20220415
DTEND;VALUE=DATE:20220502
DTSTAMP:20260420T074911
CREATED:20220119T223641Z
LAST-MODIFIED:20220119T223641Z
UID:10000277-1649980800-1651449599@www.seafordhs.sa.edu.au
SUMMARY:Term 1 School Holidays
DESCRIPTION:
URL:https://www.seafordhs.sa.edu.au/event/term-1-school-holidays/
CATEGORIES:School Holidays
END:VEVENT
BEGIN:VEVENT
DTSTART;VALUE=DATE:20220510
DTEND;VALUE=DATE:20220513
DTSTAMP:20260420T074911
CREATED:20220114T043953Z
LAST-MODIFIED:20220114T044059Z
UID:10000250-1652140800-1652399999@www.seafordhs.sa.edu.au
SUMMARY:NAPLAN
DESCRIPTION:
URL:https://www.seafordhs.sa.edu.au/event/naplan/
LOCATION:Seaford Secondary College
CATEGORIES:School Event
END:VEVENT
BEGIN:VEVENT
DTSTART;TZID=Australia/Adelaide:20220511T153000
DTEND;TZID=Australia/Adelaide:20220511T193000
DTSTAMP:20260420T074911
CREATED:20220114T044315Z
LAST-MODIFIED:20220114T044315Z
UID:10000251-1652283000-1652297400@www.seafordhs.sa.edu.au
SUMMARY:Parent Teacher Interviews
DESCRIPTION:
URL:https://www.seafordhs.sa.edu.au/event/parent-teacher-interviews/
LOCATION:Seaford Secondary College
CATEGORIES:School Event
END:VEVENT
BEGIN:VEVENT
DTSTART;TZID=Australia/Adelaide:20220512T090000
DTEND;TZID=Australia/Adelaide:20220512T150000
DTSTAMP:20260420T074911
CREATED:20220114T044443Z
LAST-MODIFIED:20220116T232644Z
UID:10000252-1652346000-1652367600@www.seafordhs.sa.edu.au
SUMMARY:Year 10 Immunisations
DESCRIPTION:
URL:https://www.seafordhs.sa.edu.au/event/year-10-immunisations/
CATEGORIES:Immunisations
END:VEVENT
BEGIN:VEVENT
DTSTART;VALUE=DATE:20220517
DTEND;VALUE=DATE:20220520
DTSTAMP:20260420T074911
CREATED:20220114T045040Z
LAST-MODIFIED:20220114T045040Z
UID:10000253-1652745600-1653004799@www.seafordhs.sa.edu.au
SUMMARY:NAPLAN
DESCRIPTION:
URL:https://www.seafordhs.sa.edu.au/event/naplan-2/
LOCATION:Seaford Secondary College
CATEGORIES:School Event
END:VEVENT
BEGIN:VEVENT
DTSTART;VALUE=DATE:20220517
DTEND;VALUE=DATE:20220521
DTSTAMP:20260420T074911
CREATED:20220422T001545Z
LAST-MODIFIED:20220422T001545Z
UID:10000285-1652745600-1653091199@www.seafordhs.sa.edu.au
SUMMARY:Year 12 Outdoor Ed Bushwalking Camp
DESCRIPTION:
URL:https://www.seafordhs.sa.edu.au/event/year-12-outdoor-ed-bushwalking-camp/
CATEGORIES:Camps & Excursions
END:VEVENT
BEGIN:VEVENT
DTSTART;VALUE=DATE:20220519
DTEND;VALUE=DATE:20220521
DTSTAMP:20260420T074911
CREATED:20220114T045552Z
LAST-MODIFIED:20220119T224004Z
UID:10000254-1652918400-1653091199@www.seafordhs.sa.edu.au
SUMMARY:Whole School Photos
DESCRIPTION:
URL:https://www.seafordhs.sa.edu.au/event/whole-school-photos/
CATEGORIES:School Photos
END:VEVENT
BEGIN:VEVENT
DTSTART;TZID=Australia/Adelaide:20220523T183000
DTEND;TZID=Australia/Adelaide:20220523T200000
DTSTAMP:20260420T074911
CREATED:20220114T051347Z
LAST-MODIFIED:20220114T051524Z
UID:10000255-1653330600-1653336000@www.seafordhs.sa.edu.au
SUMMARY:Governing Council
DESCRIPTION:
URL:https://www.seafordhs.sa.edu.au/event/governing-council-2/
CATEGORIES:Governing Council
END:VEVENT
BEGIN:VEVENT
DTSTART;VALUE=DATE:20220525
DTEND;VALUE=DATE:20220528
DTSTAMP:20260420T074911
CREATED:20220114T051738Z
LAST-MODIFIED:20220114T051738Z
UID:10000256-1653436800-1653695999@www.seafordhs.sa.edu.au
SUMMARY:Year 7 Camps
DESCRIPTION:
URL:https://www.seafordhs.sa.edu.au/event/year-7-camps/
CATEGORIES:Camps & Excursions
END:VEVENT
BEGIN:VEVENT
DTSTART;VALUE=DATE:20220530
DTEND;VALUE=DATE:20220531
DTSTAMP:20260420T074911
CREATED:20220114T051922Z
LAST-MODIFIED:20220116T232140Z
UID:10000257-1653868800-1653955199@www.seafordhs.sa.edu.au
SUMMARY:Student Free Day
DESCRIPTION:
URL:https://www.seafordhs.sa.edu.au/event/student-free-day-2/
CATEGORIES:Student Free Days
END:VEVENT
BEGIN:VEVENT
DTSTART;VALUE=DATE:20220531
DTEND;VALUE=DATE:20220604
DTSTAMP:20260420T074911
CREATED:20220114T052232Z
LAST-MODIFIED:20220331T035506Z
UID:10000259-1653955200-1654300799@www.seafordhs.sa.edu.au
SUMMARY:School Dental Visits
DESCRIPTION:
URL:https://www.seafordhs.sa.edu.au/event/school-dental-visits/
LOCATION:Seaford Secondary College
CATEGORIES:School Dental
END:VEVENT
END:VCALENDAR