BEGIN:VCALENDAR
VERSION:2.0
PRODID:-//Seaford Secondary College - ECPv6.15.12.2//NONSGML v1.0//EN
CALSCALE:GREGORIAN
METHOD:PUBLISH
X-WR-CALNAME:Seaford Secondary College
X-ORIGINAL-URL:https://www.seafordhs.sa.edu.au
X-WR-CALDESC:Events for Seaford Secondary College
REFRESH-INTERVAL;VALUE=DURATION:PT1H
X-Robots-Tag:noindex
X-PUBLISHED-TTL:PT1H
BEGIN:VTIMEZONE
TZID:Australia/Adelaide
BEGIN:STANDARD
TZOFFSETFROM:+1030
TZOFFSETTO:+0930
TZNAME:ACST
DTSTART:20210403T163000
END:STANDARD
BEGIN:DAYLIGHT
TZOFFSETFROM:+0930
TZOFFSETTO:+1030
TZNAME:ACDT
DTSTART:20211002T163000
END:DAYLIGHT
BEGIN:STANDARD
TZOFFSETFROM:+1030
TZOFFSETTO:+0930
TZNAME:ACST
DTSTART:20220402T163000
END:STANDARD
BEGIN:DAYLIGHT
TZOFFSETFROM:+0930
TZOFFSETTO:+1030
TZNAME:ACDT
DTSTART:20221001T163000
END:DAYLIGHT
BEGIN:STANDARD
TZOFFSETFROM:+1030
TZOFFSETTO:+0930
TZNAME:ACST
DTSTART:20230401T163000
END:STANDARD
BEGIN:DAYLIGHT
TZOFFSETFROM:+0930
TZOFFSETTO:+1030
TZNAME:ACDT
DTSTART:20230930T163000
END:DAYLIGHT
END:VTIMEZONE
BEGIN:VEVENT
DTSTART;VALUE=DATE:20220704
DTEND;VALUE=DATE:20220705
DTSTAMP:20260420T042828
CREATED:20220116T232608Z
LAST-MODIFIED:20220116T232608Z
UID:10000267-1656892800-1656979199@www.seafordhs.sa.edu.au
SUMMARY:Year 10 Immunisations
DESCRIPTION:
URL:https://www.seafordhs.sa.edu.au/event/year-10-immunisations-2/
CATEGORIES:Immunisations
END:VEVENT
BEGIN:VEVENT
DTSTART;TZID=Australia/Adelaide:20220708T080000
DTEND;TZID=Australia/Adelaide:20220708T141200
DTSTAMP:20260420T042828
CREATED:20220417T011517Z
LAST-MODIFIED:20220418T231727Z
UID:10000283-1657267200-1657289520@www.seafordhs.sa.edu.au
SUMMARY:Last Day of Term 2 Dismissal 2.12pm
DESCRIPTION:
URL:https://www.seafordhs.sa.edu.au/event/last-day-of-term-dismissal-3-05pm/
CATEGORIES:Term and Semester Dates
END:VEVENT
END:VCALENDAR