BEGIN:VCALENDAR
VERSION:2.0
PRODID:-//Seaford Secondary College - ECPv6.15.12.2//NONSGML v1.0//EN
CALSCALE:GREGORIAN
METHOD:PUBLISH
X-ORIGINAL-URL:https://www.seafordhs.sa.edu.au
X-WR-CALDESC:Events for Seaford Secondary College
REFRESH-INTERVAL;VALUE=DURATION:PT1H
X-Robots-Tag:noindex
X-PUBLISHED-TTL:PT1H
BEGIN:VTIMEZONE
TZID:Australia/Adelaide
BEGIN:STANDARD
TZOFFSETFROM:+1030
TZOFFSETTO:+0930
TZNAME:ACST
DTSTART:20250405T163000
END:STANDARD
BEGIN:DAYLIGHT
TZOFFSETFROM:+0930
TZOFFSETTO:+1030
TZNAME:ACDT
DTSTART:20251004T163000
END:DAYLIGHT
BEGIN:STANDARD
TZOFFSETFROM:+1030
TZOFFSETTO:+0930
TZNAME:ACST
DTSTART:20260404T163000
END:STANDARD
BEGIN:DAYLIGHT
TZOFFSETFROM:+0930
TZOFFSETTO:+1030
TZNAME:ACDT
DTSTART:20261003T163000
END:DAYLIGHT
BEGIN:STANDARD
TZOFFSETFROM:+1030
TZOFFSETTO:+0930
TZNAME:ACST
DTSTART:20270403T163000
END:STANDARD
BEGIN:DAYLIGHT
TZOFFSETFROM:+0930
TZOFFSETTO:+1030
TZNAME:ACDT
DTSTART:20271002T163000
END:DAYLIGHT
END:VTIMEZONE
BEGIN:VEVENT
DTSTART;TZID=Australia/Adelaide:20260306T084000
DTEND;TZID=Australia/Adelaide:20260306T150500
DTSTAMP:20260420T001254
CREATED:20260227T023521Z
LAST-MODIFIED:20260227T024537Z
UID:10000471-1772786400-1772809500@www.seafordhs.sa.edu.au
SUMMARY:Sports Day 2026
DESCRIPTION:
URL:https://www.seafordhs.sa.edu.au/event/sports-day-2026/
LOCATION:Seaford Secondary College
CATEGORIES:School Event,Sports
END:VEVENT
BEGIN:VEVENT
DTSTART;TZID=Australia/Adelaide:20260326T170000
DTEND;TZID=Australia/Adelaide:20260326T190000
DTSTAMP:20260420T001254
CREATED:20260318T223205Z
LAST-MODIFIED:20260318T223205Z
UID:10000472-1774544400-1774551600@www.seafordhs.sa.edu.au
SUMMARY:Open Night 2026
DESCRIPTION:Free BBQ\nPrincipal and School Captains Welcome in the\nPerforming Arts Centre\n◦ 5.00pm\, 5.30pm and 6.00pm\nGuided tours led by Student Leaders\nSelf guided tours\nInteractive learning experiences\nInformation stalls and displays
URL:https://www.seafordhs.sa.edu.au/event/open-night-2026/
LOCATION:Seaford Secondary College
CATEGORIES:School Event
END:VEVENT
END:VCALENDAR